Package: scTHI Version: 1.21.0 Command: /Library/Frameworks/R.framework/Resources/bin/R CMD check --install=check:scTHI.install-out.txt --library=/Library/Frameworks/R.framework/Resources/library --no-vignettes --timings scTHI_1.21.0.tar.gz StartedAt: 2025-07-13 21:18:52 -0400 (Sun, 13 Jul 2025) EndedAt: 2025-07-13 21:19:22 -0400 (Sun, 13 Jul 2025) EllapsedTime: 30.3 seconds RetCode: 0 Status: OK CheckDir: scTHI.Rcheck Warnings: 0