Package: scTGIF Version: 1.23.0 Command: F:\biocbuild\bbs-3.22-bioc\R\bin\R.exe CMD INSTALL scTGIF StartedAt: 2025-07-24 16:26:34 -0400 (Thu, 24 Jul 2025) EndedAt: 2025-07-24 16:27:20 -0400 (Thu, 24 Jul 2025) EllapsedTime: 46.4 seconds RetCode: 0 Status: OK