Package: scTGIF Version: 1.23.0 Command: chmod a+r scTGIF -R && F:\biocbuild\bbs-3.22-bioc\R\bin\R.exe CMD build --keep-empty-dirs --no-resave-data scTGIF StartedAt: 2025-07-24 22:14:04 -0400 (Thu, 24 Jul 2025) EndedAt: 2025-07-24 22:16:21 -0400 (Thu, 24 Jul 2025) EllapsedTime: 137.0 seconds RetCode: 0 Status: OK PackageFile: scTGIF_1.23.0.tar.gz PackageFileSize: 2.367 MiB