Package: scTGIF Version: 1.23.0 Command: rm -rf scTGIF.buildbin-libdir && mkdir scTGIF.buildbin-libdir && F:\biocbuild\bbs-3.22-bioc\R\bin\R.exe CMD INSTALL --build --library=scTGIF.buildbin-libdir scTGIF_1.23.0.tar.gz StartedAt: 2025-07-25 10:16:36 -0400 (Fri, 25 Jul 2025) EndedAt: 2025-07-25 10:17:27 -0400 (Fri, 25 Jul 2025) EllapsedTime: 50.5 seconds RetCode: 0 Status: OK PackageFile: scTGIF_1.23.0.zip PackageFileSize: 1.991 MiB