Package: scRepertoire Version: 2.5.2 Command: /home/biocbuild/R/R/bin/R CMD INSTALL scRepertoire StartedAt: 2025-06-30 20:39:40 -0000 (Mon, 30 Jun 2025) EndedAt: 2025-06-30 20:41:08 -0000 (Mon, 30 Jun 2025) EllapsedTime: 88.6 seconds RetCode: 0 Status: OK