Package: scRepertoire Version: 2.5.2 Command: /home/biocbuild/R/R/bin/R CMD check --install=check:scRepertoire.install-out.txt --library=/home/biocbuild/R/R/site-library --no-vignettes --timings scRepertoire_2.5.2.tar.gz StartedAt: 2025-07-01 11:33:34 -0000 (Tue, 01 Jul 2025) EndedAt: 2025-07-01 11:44:03 -0000 (Tue, 01 Jul 2025) EllapsedTime: 628.8 seconds RetCode: 0 Status: OK CheckDir: scRepertoire.Rcheck Warnings: 0