Package: scRepertoire Version: 2.5.2 Command: F:\biocbuild\bbs-3.22-bioc\R\bin\R.exe CMD INSTALL scRepertoire StartedAt: 2025-07-16 16:46:00 -0400 (Wed, 16 Jul 2025) EndedAt: 2025-07-16 16:47:42 -0400 (Wed, 16 Jul 2025) EllapsedTime: 102.1 seconds RetCode: 0 Status: OK