Package: scRepertoire Version: 2.5.2 Command: rm -rf scRepertoire.buildbin-libdir && mkdir scRepertoire.buildbin-libdir && F:\biocbuild\bbs-3.22-bioc\R\bin\R.exe CMD INSTALL --build --library=scRepertoire.buildbin-libdir scRepertoire_2.5.2.tar.gz StartedAt: 2025-07-17 09:58:03 -0400 (Thu, 17 Jul 2025) EndedAt: 2025-07-17 10:01:14 -0400 (Thu, 17 Jul 2025) EllapsedTime: 191.4 seconds RetCode: 0 Status: OK PackageFile: scRepertoire_2.5.2.zip PackageFileSize: 5.077 MiB