Package: scRepertoire Version: 2.5.2 Command: /Library/Frameworks/R.framework/Resources/bin/R CMD INSTALL scRepertoire StartedAt: 2025-07-11 15:14:01 -0400 (Fri, 11 Jul 2025) EndedAt: 2025-07-11 15:14:24 -0400 (Fri, 11 Jul 2025) EllapsedTime: 22.4 seconds RetCode: 0 Status: OK