Package: scRepertoire Version: 2.5.2 Command: /Library/Frameworks/R.framework/Resources/bin/R CMD check --install=check:scRepertoire.install-out.txt --library=/Library/Frameworks/R.framework/Resources/library --no-vignettes --timings scRepertoire_2.5.2.tar.gz StartedAt: 2025-07-11 21:20:44 -0400 (Fri, 11 Jul 2025) EndedAt: 2025-07-11 21:23:49 -0400 (Fri, 11 Jul 2025) EllapsedTime: 185.2 seconds RetCode: 0 Status: OK CheckDir: scRepertoire.Rcheck Warnings: 0