Package: scRepertoire Version: 2.5.2 Command: /Library/Frameworks/R.framework/Resources/bin/R CMD build --keep-empty-dirs --no-resave-data scRepertoire StartedAt: 2025-07-11 17:31:11 -0400 (Fri, 11 Jul 2025) EndedAt: 2025-07-11 17:32:50 -0400 (Fri, 11 Jul 2025) EllapsedTime: 99.1 seconds RetCode: 0 Status: OK PackageFile: scRepertoire_2.5.2.tar.gz PackageFileSize: 23.37 MiB