Package: scRecover Version: 1.25.0 Command: /home/biocbuild/R/R/bin/R CMD build --keep-empty-dirs --no-resave-data scRecover StartedAt: 2025-07-08 02:28:47 -0000 (Tue, 08 Jul 2025) EndedAt: 2025-07-08 02:31:06 -0000 (Tue, 08 Jul 2025) EllapsedTime: 139.1 seconds RetCode: 0 Status: OK PackageFile: scRecover_1.25.0.tar.gz PackageFileSize: 1.776 MiB