Package: scRecover Version: 1.25.0 Command: /home/biocbuild/bbs-3.22-bioc/R/bin/R CMD check --install=check:scRecover.install-out.txt --library=/home/biocbuild/bbs-3.22-bioc/R/site-library --timings scRecover_1.25.0.tar.gz StartedAt: 2025-07-16 02:14:34 -0400 (Wed, 16 Jul 2025) EndedAt: 2025-07-16 02:17:58 -0400 (Wed, 16 Jul 2025) EllapsedTime: 204.2 seconds RetCode: 0 Status: OK CheckDir: scRecover.Rcheck Warnings: 0