Package: scRecover Version: 1.25.0 Command: /Library/Frameworks/R.framework/Resources/bin/R CMD INSTALL scRecover StartedAt: 2025-07-01 15:03:52 -0400 (Tue, 01 Jul 2025) EndedAt: 2025-07-01 15:04:08 -0400 (Tue, 01 Jul 2025) EllapsedTime: 15.9 seconds RetCode: 0 Status: OK