Package: scRecover Version: 1.25.0 Command: /Library/Frameworks/R.framework/Resources/bin/R CMD check --install=check:scRecover.install-out.txt --library=/Library/Frameworks/R.framework/Resources/library --no-vignettes --timings scRecover_1.25.0.tar.gz StartedAt: 2025-07-01 21:19:02 -0400 (Tue, 01 Jul 2025) EndedAt: 2025-07-01 21:19:46 -0400 (Tue, 01 Jul 2025) EllapsedTime: 44.5 seconds RetCode: 0 Status: OK CheckDir: scRecover.Rcheck Warnings: 0