Package: scRecover Version: 1.25.0 Command: /Library/Frameworks/R.framework/Resources/bin/R CMD build --keep-empty-dirs --no-resave-data scRecover StartedAt: 2025-07-01 17:30:34 -0400 (Tue, 01 Jul 2025) EndedAt: 2025-07-01 17:31:16 -0400 (Tue, 01 Jul 2025) EllapsedTime: 41.4 seconds RetCode: 0 Status: OK PackageFile: scRecover_1.25.0.tar.gz PackageFileSize: 1.713 MiB