Package: scQTLtools Version: 1.1.7 Command: /home/biocbuild/R/R/bin/R CMD build --keep-empty-dirs --no-resave-data scQTLtools StartedAt: 2025-07-15 02:46:59 -0000 (Tue, 15 Jul 2025) EndedAt: 2025-07-15 02:48:59 -0000 (Tue, 15 Jul 2025) EllapsedTime: 120.1 seconds RetCode: 0 Status: OK PackageFile: scQTLtools_1.1.7.tar.gz PackageFileSize: 3.975 MiB