Package: scQTLtools Version: 1.1.7 Command: /Library/Frameworks/R.framework/Resources/bin/R CMD build --keep-empty-dirs --no-resave-data scQTLtools StartedAt: 2025-07-07 17:28:43 -0400 (Mon, 07 Jul 2025) EndedAt: 2025-07-07 17:29:23 -0400 (Mon, 07 Jul 2025) EllapsedTime: 39.4 seconds RetCode: 0 Status: OK PackageFile: scQTLtools_1.1.7.tar.gz PackageFileSize: 4.233 MiB