Package: scQTLtools Version: 1.1.7 Command: rm -rf scQTLtools.buildbin-libdir && mkdir scQTLtools.buildbin-libdir && /Users/biocbuild/BBS/utils/build-universal.sh scQTLtools_1.1.7.tar.gz /Library/Frameworks/R.framework/Resources/bin/R scQTLtools.buildbin-libdir StartedAt: 2025-07-09 22:43:17 -0400 (Wed, 09 Jul 2025) EndedAt: 2025-07-09 22:43:36 -0400 (Wed, 09 Jul 2025) EllapsedTime: 18.3 seconds RetCode: 0 Status: OK PackageFile: scQTLtools_1.1.7.tgz PackageFileSize: 3.267 MiB