Package: scPipe Version: 2.9.0 Command: /home/biocbuild/R/R/bin/R CMD check --install=check:scPipe.install-out.txt --library=/home/biocbuild/R/R/site-library --no-vignettes --timings scPipe_2.9.0.tar.gz StartedAt: 2025-07-01 11:31:30 -0000 (Tue, 01 Jul 2025) EndedAt: 2025-07-01 11:38:24 -0000 (Tue, 01 Jul 2025) EllapsedTime: 413.5 seconds RetCode: 0 Status: OK CheckDir: scPipe.Rcheck Warnings: 0