Package: scPipe Version: 2.9.0 Command: F:\biocbuild\bbs-3.22-bioc\R\bin\R.exe CMD INSTALL scPipe StartedAt: 2025-07-16 16:28:34 -0400 (Wed, 16 Jul 2025) EndedAt: 2025-07-16 16:32:01 -0400 (Wed, 16 Jul 2025) EllapsedTime: 207.0 seconds RetCode: 0 Status: OK