Package: scPipe Version: 2.9.0 Command: F:\biocbuild\bbs-3.22-bioc\R\bin\R.exe CMD check --no-multiarch --install=check:scPipe.install-out.txt --library=F:\biocbuild\bbs-3.22-bioc\R\library --no-vignettes --timings scPipe_2.9.0.tar.gz StartedAt: 2025-07-18 06:21:26 -0400 (Fri, 18 Jul 2025) EndedAt: 2025-07-18 06:30:41 -0400 (Fri, 18 Jul 2025) EllapsedTime: 555.1 seconds RetCode: 0 Status: OK CheckDir: scPipe.Rcheck Warnings: 0