Package: scPipe Version: 2.9.0 Command: chmod a+r scPipe -R && F:\biocbuild\bbs-3.22-bioc\R\bin\R.exe CMD build --keep-empty-dirs --no-resave-data scPipe StartedAt: 2025-07-16 21:56:32 -0400 (Wed, 16 Jul 2025) EndedAt: 2025-07-16 22:03:05 -0400 (Wed, 16 Jul 2025) EllapsedTime: 393.9 seconds RetCode: 0 Status: OK PackageFile: scPipe_2.9.0.tar.gz PackageFileSize: 12.46 MiB