Package: scPipe Version: 2.9.0 Command: rm -rf scPipe.buildbin-libdir && mkdir scPipe.buildbin-libdir && F:\biocbuild\bbs-3.22-bioc\R\bin\R.exe CMD INSTALL --build --library=scPipe.buildbin-libdir scPipe_2.9.0.tar.gz StartedAt: 2025-07-17 09:57:39 -0400 (Thu, 17 Jul 2025) EndedAt: 2025-07-17 10:01:11 -0400 (Thu, 17 Jul 2025) EllapsedTime: 211.6 seconds RetCode: 0 Status: OK PackageFile: scPipe_2.9.0.zip PackageFileSize: 18.31 MiB