Package: scPipe Version: 2.9.0 Command: /Library/Frameworks/R.framework/Resources/bin/R CMD build --keep-empty-dirs --no-resave-data scPipe StartedAt: 2025-10-05 18:53:25 -0400 (Sun, 05 Oct 2025) EndedAt: 2025-10-05 19:13:24 -0400 (Sun, 05 Oct 2025) EllapsedTime: 1199.0 seconds RetCode: 0 Status: OK PackageFile: scPipe_2.9.0.tar.gz PackageFileSize: 12.67 MiB