Package: scPipe Version: 2.9.0 Command: rm -rf scPipe.buildbin-libdir && mkdir scPipe.buildbin-libdir && /Users/biocbuild/BBS/utils/build-universal.sh scPipe_2.9.0.tar.gz /Library/Frameworks/R.framework/Resources/bin/R scPipe.buildbin-libdir StartedAt: 2025-10-04 02:28:51 -0400 (Sat, 04 Oct 2025) EndedAt: 2025-10-04 02:32:00 -0400 (Sat, 04 Oct 2025) EllapsedTime: 189.1 seconds RetCode: 0 Status: OK PackageFile: scPipe_2.9.0.tgz PackageFileSize: 13.8 MiB