Package: scPCA Version: 1.23.0 Command: chmod a+r scPCA -R && F:\biocbuild\bbs-3.22-bioc\R\bin\R.exe CMD build --keep-empty-dirs --no-resave-data scPCA StartedAt: 2025-07-01 21:56:28 -0400 (Tue, 01 Jul 2025) EndedAt: 2025-07-01 22:03:19 -0400 (Tue, 01 Jul 2025) EllapsedTime: 411.6 seconds RetCode: 0 Status: OK PackageFile: scPCA_1.23.0.tar.gz PackageFileSize: 871.9 KiB