Package: scPCA Version: 1.23.0 Command: rm -rf scPCA.buildbin-libdir && mkdir scPCA.buildbin-libdir && F:\biocbuild\bbs-3.22-bioc\R\bin\R.exe CMD INSTALL --build --library=scPCA.buildbin-libdir scPCA_1.23.0.tar.gz StartedAt: 2025-07-02 09:51:51 -0400 (Wed, 02 Jul 2025) EndedAt: 2025-07-02 09:52:25 -0400 (Wed, 02 Jul 2025) EllapsedTime: 34.0 seconds RetCode: 0 Status: OK PackageFile: scPCA_1.23.0.zip PackageFileSize: 908.2 KiB