Package: scMitoMut Version: 1.5.0 Command: F:\biocbuild\bbs-3.22-bioc\R\bin\R.exe CMD INSTALL scMitoMut StartedAt: 2025-07-07 15:25:51 -0400 (Mon, 07 Jul 2025) EndedAt: 2025-07-07 15:26:51 -0400 (Mon, 07 Jul 2025) EllapsedTime: 59.7 seconds RetCode: 0 Status: OK