Package: scMitoMut Version: 1.5.0 Command: chmod a+r scMitoMut -R && F:\biocbuild\bbs-3.22-bioc\R\bin\R.exe CMD build --keep-empty-dirs --no-resave-data scMitoMut StartedAt: 2025-07-07 21:54:42 -0400 (Mon, 07 Jul 2025) EndedAt: 2025-07-07 21:56:47 -0400 (Mon, 07 Jul 2025) EllapsedTime: 125.3 seconds RetCode: 0 Status: OK PackageFile: scMitoMut_1.5.0.tar.gz PackageFileSize: 984.4 KiB