Package: scMitoMut Version: 1.5.0 Command: rm -rf scMitoMut.buildbin-libdir && mkdir scMitoMut.buildbin-libdir && F:\biocbuild\bbs-3.22-bioc\R\bin\R.exe CMD INSTALL --build --library=scMitoMut.buildbin-libdir scMitoMut_1.5.0.tar.gz StartedAt: 2025-07-08 09:53:17 -0400 (Tue, 08 Jul 2025) EndedAt: 2025-07-08 09:54:04 -0400 (Tue, 08 Jul 2025) EllapsedTime: 46.6 seconds RetCode: 0 Status: OK PackageFile: scMitoMut_1.5.0.zip PackageFileSize: 1.394 MiB