Package: scGPS Version: 1.23.0 Command: F:\biocbuild\bbs-3.22-bioc\R\bin\R.exe CMD INSTALL scGPS StartedAt: 2025-07-14 16:09:10 -0400 (Mon, 14 Jul 2025) EndedAt: 2025-07-14 16:10:28 -0400 (Mon, 14 Jul 2025) EllapsedTime: 78.4 seconds RetCode: 0 Status: OK