Package: scGPS Version: 1.23.0 Command: chmod a+r scGPS -R && F:\biocbuild\bbs-3.22-bioc\R\bin\R.exe CMD build --keep-empty-dirs --no-resave-data scGPS StartedAt: 2025-07-14 21:53:34 -0400 (Mon, 14 Jul 2025) EndedAt: 2025-07-14 22:01:59 -0400 (Mon, 14 Jul 2025) EllapsedTime: 504.7 seconds RetCode: 0 Status: OK PackageFile: scGPS_1.23.0.tar.gz PackageFileSize: 1.911 MiB