Package: scGPS Version: 1.23.0 Command: rm -rf scGPS.buildbin-libdir && mkdir scGPS.buildbin-libdir && F:\biocbuild\bbs-3.22-bioc\R\bin\R.exe CMD INSTALL --build --library=scGPS.buildbin-libdir scGPS_1.23.0.tar.gz StartedAt: 2025-07-15 09:54:22 -0400 (Tue, 15 Jul 2025) EndedAt: 2025-07-15 09:55:47 -0400 (Tue, 15 Jul 2025) EllapsedTime: 84.8 seconds RetCode: 0 Status: OK PackageFile: scGPS_1.23.0.zip PackageFileSize: 2.931 MiB