Package: scGPS Version: 1.23.0 Command: /Library/Frameworks/R.framework/Resources/bin/R CMD INSTALL scGPS StartedAt: 2025-06-29 15:14:59 -0400 (Sun, 29 Jun 2025) EndedAt: 2025-06-29 15:15:17 -0400 (Sun, 29 Jun 2025) EllapsedTime: 18.2 seconds RetCode: 0 Status: OK