Package: scGPS Version: 1.23.0 Command: /Library/Frameworks/R.framework/Resources/bin/R CMD check --install=check:scGPS.install-out.txt --library=/Library/Frameworks/R.framework/Resources/library --no-vignettes --timings scGPS_1.23.0.tar.gz StartedAt: 2025-06-29 21:15:34 -0400 (Sun, 29 Jun 2025) EndedAt: 2025-06-29 21:18:18 -0400 (Sun, 29 Jun 2025) EllapsedTime: 163.9 seconds RetCode: 0 Status: OK CheckDir: scGPS.Rcheck Warnings: 0