Package: scFeatures Version: 1.9.0 Command: /home/biocbuild/R/R/bin/R CMD INSTALL scFeatures StartedAt: 2025-06-30 21:24:35 -0000 (Mon, 30 Jun 2025) EndedAt: 2025-06-30 21:25:53 -0000 (Mon, 30 Jun 2025) EllapsedTime: 78.5 seconds RetCode: 0 Status: OK