Package: scFeatures Version: 1.9.0 Command: /home/biocbuild/R/R/bin/R CMD build --keep-empty-dirs --no-resave-data scFeatures StartedAt: 2025-07-01 02:41:20 -0000 (Tue, 01 Jul 2025) EndedAt: 2025-07-01 02:44:11 -0000 (Tue, 01 Jul 2025) EllapsedTime: 171.3 seconds RetCode: 0 Status: OK PackageFile: scFeatures_1.9.0.tar.gz PackageFileSize: 2.913 MiB