Package: scDiagnostics Version: 1.3.0 Command: /home/biocbuild/R/R/bin/R CMD INSTALL scDiagnostics StartedAt: 2025-06-30 20:35:04 -0000 (Mon, 30 Jun 2025) EndedAt: 2025-06-30 20:35:38 -0000 (Mon, 30 Jun 2025) EllapsedTime: 33.7 seconds RetCode: 0 Status: OK