Package: scDiagnostics Version: 1.3.0 Command: /home/biocbuild/R/R/bin/R CMD check --install=check:scDiagnostics.install-out.txt --library=/home/biocbuild/R/R/site-library --no-vignettes --timings scDiagnostics_1.3.0.tar.gz StartedAt: 2025-07-01 11:24:17 -0000 (Tue, 01 Jul 2025) EndedAt: 2025-07-01 11:34:55 -0000 (Tue, 01 Jul 2025) EllapsedTime: 638.7 seconds RetCode: 0 Status: OK CheckDir: scDiagnostics.Rcheck Warnings: 0