Package: scDiagnostics Version: 1.3.0 Command: /home/biocbuild/R/R/bin/R CMD build --keep-empty-dirs --no-resave-data scDiagnostics StartedAt: 2025-07-01 02:38:25 -0000 (Tue, 01 Jul 2025) EndedAt: 2025-07-01 02:44:55 -0000 (Tue, 01 Jul 2025) EllapsedTime: 390.6 seconds RetCode: 0 Status: OK PackageFile: scDiagnostics_1.3.0.tar.gz PackageFileSize: 3.875 MiB