Package: scDD Version: 1.33.0 Command: F:\biocbuild\bbs-3.22-bioc\R\bin\R.exe CMD INSTALL scDD StartedAt: 2025-07-11 16:28:19 -0400 (Fri, 11 Jul 2025) EndedAt: 2025-07-11 16:29:06 -0400 (Fri, 11 Jul 2025) EllapsedTime: 47.7 seconds RetCode: 0 Status: OK