Package: scDD Version: 1.33.0 Command: rm -rf scDD.buildbin-libdir && mkdir scDD.buildbin-libdir && F:\biocbuild\bbs-3.22-bioc\R\bin\R.exe CMD INSTALL --build --library=scDD.buildbin-libdir scDD_1.33.0.tar.gz StartedAt: 2025-07-12 09:47:34 -0400 (Sat, 12 Jul 2025) EndedAt: 2025-07-12 09:48:24 -0400 (Sat, 12 Jul 2025) EllapsedTime: 49.3 seconds RetCode: 0 Status: OK PackageFile: scDD_1.33.0.zip PackageFileSize: 1.003 MiB