Package: scDD Version: 1.33.0 Command: /Library/Frameworks/R.framework/Resources/bin/R CMD build --keep-empty-dirs --no-resave-data scDD StartedAt: 2025-07-07 18:21:30 -0400 (Mon, 07 Jul 2025) EndedAt: 2025-07-07 18:23:50 -0400 (Mon, 07 Jul 2025) EllapsedTime: 139.2 seconds RetCode: 0 Status: OK PackageFile: scDD_1.33.0.tar.gz PackageFileSize: 845.6 KiB