Package: scBFA Version: 1.23.0 Command: F:\biocbuild\bbs-3.22-bioc\R\bin\R.exe CMD check --no-multiarch --install=check:scBFA.install-out.txt --library=F:\biocbuild\bbs-3.22-bioc\R\library --no-vignettes --timings scBFA_1.23.0.tar.gz StartedAt: 2025-07-16 06:09:20 -0400 (Wed, 16 Jul 2025) EndedAt: 2025-07-16 06:15:49 -0400 (Wed, 16 Jul 2025) EllapsedTime: 389.3 seconds RetCode: 0 Status: OK CheckDir: scBFA.Rcheck Warnings: 0