Package: scAnnotatR Version: 1.15.0 Command: /home/biocbuild/R/R/bin/R CMD INSTALL scAnnotatR StartedAt: 2025-06-26 20:39:11 -0000 (Thu, 26 Jun 2025) EndedAt: 2025-06-26 20:40:15 -0000 (Thu, 26 Jun 2025) EllapsedTime: 63.6 seconds RetCode: 0 Status: OK