Package: scAnnotatR Version: 1.15.0 Command: /home/biocbuild/R/R/bin/R CMD build --keep-empty-dirs --no-resave-data scAnnotatR StartedAt: 2025-06-27 02:22:48 -0000 (Fri, 27 Jun 2025) EndedAt: 2025-06-27 02:33:16 -0000 (Fri, 27 Jun 2025) EllapsedTime: 627.9 seconds RetCode: 0 Status: OK PackageFile: scAnnotatR_1.15.0.tar.gz PackageFileSize: 504.2 KiB