Package: scAnnotatR Version: 1.15.0 Command: F:\biocbuild\bbs-3.22-bioc\R\bin\R.exe CMD check --no-multiarch --install=check:scAnnotatR.install-out.txt --library=F:\biocbuild\bbs-3.22-bioc\R\library --no-vignettes --timings scAnnotatR_1.15.0.tar.gz StartedAt: 2025-07-08 06:08:08 -0400 (Tue, 08 Jul 2025) EndedAt: 2025-07-08 06:16:36 -0400 (Tue, 08 Jul 2025) EllapsedTime: 508.6 seconds RetCode: 0 Status: WARNINGS CheckDir: scAnnotatR.Rcheck Warnings: 1