Package: scAnnotatR Version: 1.15.0 Command: chmod a+r scAnnotatR -R && F:\biocbuild\bbs-3.22-bioc\R\bin\R.exe CMD build --keep-empty-dirs --no-resave-data scAnnotatR StartedAt: 2025-07-03 21:51:12 -0400 (Thu, 03 Jul 2025) EndedAt: 2025-07-03 22:03:44 -0400 (Thu, 03 Jul 2025) EllapsedTime: 752.9 seconds RetCode: 0 Status: OK PackageFile: scAnnotatR_1.15.0.tar.gz PackageFileSize: 455.1 KiB