Package: scAnnotatR Version: 1.15.0 Command: /home/biocbuild/bbs-3.22-bioc/R/bin/R CMD check --install=check:scAnnotatR.install-out.txt --library=/home/biocbuild/bbs-3.22-bioc/R/site-library --timings scAnnotatR_1.15.0.tar.gz StartedAt: 2025-06-30 01:59:35 -0400 (Mon, 30 Jun 2025) EndedAt: 2025-06-30 02:16:40 -0400 (Mon, 30 Jun 2025) EllapsedTime: 1025.2 seconds RetCode: 0 Status: WARNINGS CheckDir: scAnnotatR.Rcheck Warnings: 1